BEGIN:VCALENDAR
PRODID:-//Hannon Hill Events//Cascade CMS//EN
VERSION:2.0
X-WR-TIMEZONE:America/New_York
BEGIN:VTIMEZONE
TZID:America/New_York
BEGIN:DAYLIGHT
TZOFFSETFROM:-0500
TZOFFSETTO:-0400
TZNAME:EDT
DTSTART:19700308T020000
RRULE:FREQ=YEARLY;BYMONTH=3;BYDAY=2SU
END:DAYLIGHT
BEGIN:STANDARD
TZOFFSETFROM:-0400
TZOFFSETTO:-0500
TZNAME:EST
DTSTART:19701101T020000
RRULE:FREQ=YEARLY;BYMONTH=11;BYDAY=1SU
END:STANDARD
END:VTIMEZONE
BEGIN:VEVENT
DTSTART:20260421T093000
DTEND:20260421T120000
DTSTAMP:20260414T111236
UID:86c5a3b50a0000964fb164dd05eea664
CREATED:20260413T081632
DESCRIPTION:For updates\, visit: https://www.hvcc.edu/events/2026/04/ualba
 ny-business-and-accounting-transfer-advisor-visit.html
LAST-MODIFIED:20260413T081859
SEQUENCE:0
STATUS:CONFIRMED
SUMMARY:UAlbany Business and Accounting Transfer Advisor Visit
TRANSP:OPAQUE
END:VEVENT
END:VCALENDAR
