BEGIN:VCALENDAR
PRODID:-//Hannon Hill Events//Cascade CMS//EN
VERSION:2.0
X-WR-TIMEZONE:America/New_York
BEGIN:VTIMEZONE
TZID:America/New_York
BEGIN:DAYLIGHT
TZOFFSETFROM:-0500
TZOFFSETTO:-0400
TZNAME:EDT
DTSTART:19700308T020000
RRULE:FREQ=YEARLY;BYMONTH=3;BYDAY=2SU
END:DAYLIGHT
BEGIN:STANDARD
TZOFFSETFROM:-0400
TZOFFSETTO:-0500
TZNAME:EST
DTSTART:19701101T020000
RRULE:FREQ=YEARLY;BYMONTH=11;BYDAY=1SU
END:STANDARD
END:VTIMEZONE
BEGIN:VEVENT
DTSTART:20260421T100000
DTEND:20260421T140000
DTSTAMP:20260414T111155
UID:e776ffc20a00009642bdcd940dd029db
CREATED:20260313T095101
DESCRIPTION:For updates\, visit: https://www.hvcc.edu/events/2026/04/st-ca
 therines-center-for-children-employer-information-table.html
LAST-MODIFIED:20260313T095348
SEQUENCE:0
STATUS:CONFIRMED
SUMMARY:St. Catherine&apos\;s Center for Children: Employer Information Ta
 ble
TRANSP:OPAQUE
END:VEVENT
END:VCALENDAR
