BEGIN:VCALENDAR
PRODID:-//Hannon Hill Events//Cascade CMS//EN
VERSION:2.0
X-WR-TIMEZONE:America/New_York
BEGIN:VTIMEZONE
TZID:America/New_York
BEGIN:DAYLIGHT
TZOFFSETFROM:-0500
TZOFFSETTO:-0400
TZNAME:EDT
DTSTART:19700308T020000
RRULE:FREQ=YEARLY;BYMONTH=3;BYDAY=2SU
END:DAYLIGHT
BEGIN:STANDARD
TZOFFSETFROM:-0400
TZOFFSETTO:-0500
TZNAME:EST
DTSTART:19701101T020000
RRULE:FREQ=YEARLY;BYMONTH=11;BYDAY=1SU
END:STANDARD
END:VTIMEZONE
BEGIN:VEVENT
DTSTART:20260422T094500
DTEND:20260422T143000
DTSTAMP:20260414T111206
UID:258c6ed60a0000963eb29b1c0042a9ee
CREATED:20260203T170806
DESCRIPTION:For updates\, visit: https://www.hvcc.edu/events/2026/04/siena
 -university-transfer-advisor-visit1.html
LAST-MODIFIED:20260203T170821
SEQUENCE:0
STATUS:CONFIRMED
SUMMARY:Siena University: Transfer Advisor Visit
TRANSP:OPAQUE
END:VEVENT
END:VCALENDAR
