BEGIN:VCALENDAR
PRODID:-//Hannon Hill Events//Cascade CMS//EN
VERSION:2.0
X-WR-TIMEZONE:America/New_York
BEGIN:VTIMEZONE
TZID:America/New_York
BEGIN:DAYLIGHT
TZOFFSETFROM:-0500
TZOFFSETTO:-0400
TZNAME:EDT
DTSTART:19700308T020000
RRULE:FREQ=YEARLY;BYMONTH=3;BYDAY=2SU
END:DAYLIGHT
BEGIN:STANDARD
TZOFFSETFROM:-0400
TZOFFSETTO:-0500
TZNAME:EST
DTSTART:19701101T020000
RRULE:FREQ=YEARLY;BYMONTH=11;BYDAY=1SU
END:STANDARD
END:VTIMEZONE
BEGIN:VEVENT
DTSTART:20260420T150000
DTEND:20260420T150000
DTSTAMP:20260414T111209
UID:9a362ee60a00009640ef335a190cc1fd
CREATED:20260107T154640
DESCRIPTION:For updates\, visit: https://www.hvcc.edu/events/2026/04/annua
 l-memorial-service.html
LAST-MODIFIED:20260107T155008
SEQUENCE:0
STATUS:CONFIRMED
SUMMARY:Annual Memorial Service
TRANSP:OPAQUE
END:VEVENT
END:VCALENDAR
